BEGIN:VCALENDAR
VERSION:2.0
PRODID:-//Cycling 2000 Blog - ECPv6.15.20//NONSGML v1.0//EN
CALSCALE:GREGORIAN
METHOD:PUBLISH
X-ORIGINAL-URL:https://blog.citrus-lime.com/clyg
X-WR-CALDESC:Events for Cycling 2000 Blog
REFRESH-INTERVAL;VALUE=DURATION:PT1H
X-Robots-Tag:noindex
X-PUBLISHED-TTL:PT1H
BEGIN:VTIMEZONE
TZID:Europe/London
BEGIN:DAYLIGHT
TZOFFSETFROM:+0000
TZOFFSETTO:+0100
TZNAME:BST
DTSTART:20250330T010000
END:DAYLIGHT
BEGIN:STANDARD
TZOFFSETFROM:+0100
TZOFFSETTO:+0000
TZNAME:GMT
DTSTART:20251026T010000
END:STANDARD
BEGIN:DAYLIGHT
TZOFFSETFROM:+0000
TZOFFSETTO:+0100
TZNAME:BST
DTSTART:20260329T010000
END:DAYLIGHT
BEGIN:STANDARD
TZOFFSETFROM:+0100
TZOFFSETTO:+0000
TZNAME:GMT
DTSTART:20261025T010000
END:STANDARD
BEGIN:DAYLIGHT
TZOFFSETFROM:+0000
TZOFFSETTO:+0100
TZNAME:BST
DTSTART:20270328T010000
END:DAYLIGHT
BEGIN:STANDARD
TZOFFSETFROM:+0100
TZOFFSETTO:+0000
TZNAME:GMT
DTSTART:20271031T010000
END:STANDARD
END:VTIMEZONE
BEGIN:VEVENT
DTSTART;TZID=Europe/London:20260122T180000
DTEND;TZID=Europe/London:20260129T200000
DTSTAMP:20260421T150501
CREATED:20251125T204355Z
LAST-MODIFIED:20260103T141215Z
UID:1751-1769104800-1769716800@blog.citrus-lime.com
SUMMARY:C2K Maintenance Evenings - 22nd & 29th January
DESCRIPTION:Get ready to roll up your sleeves and learn the ins and outs of bike maintenance at Cycling 2000’s Cycle Maintenance Evenings!\n\nJoin us on January 22nd or 29th January 2026 at 6:00 PM for an evening dedicated to keeping your bike in top condition. Whether you’re a beginner or a seasoned cyclist\, we will share tips and tricks to help you maintain your bike including clean\, lube and protect. Wheel removal and innertube replacement\, tubeless set up\, gear indexing and brake adjustments.\n\nDon’t miss this opportunity to learn from the best and ensure your cycling adventures are smooth and enjoyable. Refreshments and freebies available on the night.\n\nBook your spot now using the eventbright link below\, £12 per person\n\nSee you there!\n\nSupported by Weldtite who will be here on the night to share advice and demonstrations\n 
URL:https://blog.citrus-lime.com/clyg/event/c2k-maintenance-evenings-early-2026/
LOCATION:Cycling 2000\, Unit 1 Anglesey Business Park\, Burton\, Staffordshire\, DE14 3LX\, United Kingdom
ATTACH;FMTTYPE=image/jpeg:https://blog.citrus-lime.com/clyg/wp-content/uploads/sites/79/2024/01/Workshop-6.jpg
ORGANIZER;CN="Cycling 2000":MAILTO:paul@cycling2000.co.uk
END:VEVENT
END:VCALENDAR